BEGIN:VCALENDAR
VERSION:2.0
PRODID:-//Civic Learning Week - ECPv6.15.11//NONSGML v1.0//EN
CALSCALE:GREGORIAN
METHOD:PUBLISH
X-WR-CALNAME:Civic Learning Week
X-ORIGINAL-URL:https://civiclearningweek.org
X-WR-CALDESC:Events for Civic Learning Week
REFRESH-INTERVAL;VALUE=DURATION:PT1H
X-Robots-Tag:noindex
X-PUBLISHED-TTL:PT1H
BEGIN:VTIMEZONE
TZID:America/New_York
BEGIN:DAYLIGHT
TZOFFSETFROM:-0500
TZOFFSETTO:-0400
TZNAME:EDT
DTSTART:20230312T070000
END:DAYLIGHT
BEGIN:STANDARD
TZOFFSETFROM:-0400
TZOFFSETTO:-0500
TZNAME:EST
DTSTART:20231105T060000
END:STANDARD
BEGIN:DAYLIGHT
TZOFFSETFROM:-0500
TZOFFSETTO:-0400
TZNAME:EDT
DTSTART:20240310T070000
END:DAYLIGHT
BEGIN:STANDARD
TZOFFSETFROM:-0400
TZOFFSETTO:-0500
TZNAME:EST
DTSTART:20241103T060000
END:STANDARD
BEGIN:DAYLIGHT
TZOFFSETFROM:-0500
TZOFFSETTO:-0400
TZNAME:EDT
DTSTART:20250309T070000
END:DAYLIGHT
BEGIN:STANDARD
TZOFFSETFROM:-0400
TZOFFSETTO:-0500
TZNAME:EST
DTSTART:20251102T060000
END:STANDARD
END:VTIMEZONE
BEGIN:VEVENT
DTSTART;TZID=America/New_York:20240312T000000
DTEND;TZID=America/New_York:20240312T000000
DTSTAMP:20260425T191915
CREATED:20240315T183621Z
LAST-MODIFIED:20240315T183621Z
UID:10000315-1710201600-1710201600@civiclearningweek.org
SUMMARY:On Tuesdays We Vote
DESCRIPTION:Every Tuesday\, the juniors and seniors at Woodland High School participate in voting. Students are given a topic to vote on. We then compare/contrast our results between the courses and with schools across the nation who are also voting on the same topic.
URL:https://civiclearningweek.org/event/on-tuesdays-we-vote/
LOCATION:Woodland High School\, Woodland\, Washington\, 98674\, United States
CATEGORIES:Closed (Not open to the public)
GEO:45.9045591;-122.7439912
END:VEVENT
END:VCALENDAR