BEGIN:VCALENDAR
VERSION:2.0
PRODID:-//Civic Learning Week - ECPv6.15.11//NONSGML v1.0//EN
CALSCALE:GREGORIAN
METHOD:PUBLISH
X-ORIGINAL-URL:https://civiclearningweek.org
X-WR-CALDESC:Events for Civic Learning Week
REFRESH-INTERVAL;VALUE=DURATION:PT1H
X-Robots-Tag:noindex
X-PUBLISHED-TTL:PT1H
BEGIN:VTIMEZONE
TZID:America/New_York
BEGIN:DAYLIGHT
TZOFFSETFROM:-0500
TZOFFSETTO:-0400
TZNAME:EDT
DTSTART:20240310T070000
END:DAYLIGHT
BEGIN:STANDARD
TZOFFSETFROM:-0400
TZOFFSETTO:-0500
TZNAME:EST
DTSTART:20241103T060000
END:STANDARD
BEGIN:DAYLIGHT
TZOFFSETFROM:-0500
TZOFFSETTO:-0400
TZNAME:EDT
DTSTART:20250309T070000
END:DAYLIGHT
BEGIN:STANDARD
TZOFFSETFROM:-0400
TZOFFSETTO:-0500
TZNAME:EST
DTSTART:20251102T060000
END:STANDARD
BEGIN:DAYLIGHT
TZOFFSETFROM:-0500
TZOFFSETTO:-0400
TZNAME:EDT
DTSTART:20260308T070000
END:DAYLIGHT
BEGIN:STANDARD
TZOFFSETFROM:-0400
TZOFFSETTO:-0500
TZNAME:EST
DTSTART:20261101T060000
END:STANDARD
END:VTIMEZONE
BEGIN:VEVENT
DTSTART;TZID=America/New_York:20250310T000000
DTEND;TZID=America/New_York:20250314T235900
DTSTAMP:20260419T100646
CREATED:20250310T135347Z
LAST-MODIFIED:20250312T150759Z
UID:10000516-1741564800-1741996740@civiclearningweek.org
SUMMARY:Constitutional Scholars
DESCRIPTION:The South Carolina Historical Society is pleased to present South Carolina Students with the opportunity to become Constitutional Scholars through a certificate program that highlights civic engagement\, critical thinking\, academic research\, and creativity. Experience as a Constitutional Scholar will strengthen students’ college applications and resumes\, and promote their development in a generation of informed and engaged future voters.
URL:https://civiclearningweek.org/event/constitutional-scholars/
LOCATION:South Carolina Historical Society\, 100 Meeting St\, Charleston\, SC\, 29401-2215\, United States
ATTACH;FMTTYPE=image/jpeg:https://civiclearningweek.org/wp-content/uploads/2025/03/cs-social-media.jpg
GEO:32.7772455;-79.9309023
X-APPLE-STRUCTURED-LOCATION;VALUE=URI;X-ADDRESS=South Carolina Historical Society 100 Meeting St Charleston SC 29401-2215 United States;X-APPLE-RADIUS=500;X-TITLE=100 Meeting St:geo:-79.9309023,32.7772455
END:VEVENT
BEGIN:VEVENT
DTSTART;TZID=America/New_York:20250310T000000
DTEND;TZID=America/New_York:20250314T000000
DTSTAMP:20260419T100646
CREATED:20250310T135649Z
LAST-MODIFIED:20250312T150628Z
UID:10000515-1741564800-1741910400@civiclearningweek.org
SUMMARY:Traveling Archive
DESCRIPTION:The South Carolina Historical Society’s Traveling Archive program turns your classroom into an archive. A classroom set of archival boxes filled with high-quality reproductions of SCHS’ collections–including maps\, receipt books\, letters\, order books\, photographs\, and more–gives students the opportunity to examine primary sources. The Traveling Archive is accompanied by a career exploration activity that introduces the many uses of an archive.
URL:https://civiclearningweek.org/event/traveling-archive/
LOCATION:South Carolina Historical Society\, 100 Meeting St\, Charleston\, SC\, 29401-2215\, United States
ATTACH;FMTTYPE=image/jpeg:https://civiclearningweek.org/wp-content/uploads/2025/03/TA-Logo-JPG.jpg
GEO:32.7772455;-79.9309023
X-APPLE-STRUCTURED-LOCATION;VALUE=URI;X-ADDRESS=South Carolina Historical Society 100 Meeting St Charleston SC 29401-2215 United States;X-APPLE-RADIUS=500;X-TITLE=100 Meeting St:geo:-79.9309023,32.7772455
END:VEVENT
END:VCALENDAR