BEGIN:VCALENDAR
VERSION:2.0
PRODID:-//Civic Learning Week - ECPv6.15.11//NONSGML v1.0//EN
CALSCALE:GREGORIAN
METHOD:PUBLISH
X-WR-CALNAME:Civic Learning Week
X-ORIGINAL-URL:https://civiclearningweek.org
X-WR-CALDESC:Events for Civic Learning Week
REFRESH-INTERVAL;VALUE=DURATION:PT1H
X-Robots-Tag:noindex
X-PUBLISHED-TTL:PT1H
BEGIN:VTIMEZONE
TZID:America/New_York
BEGIN:DAYLIGHT
TZOFFSETFROM:-0500
TZOFFSETTO:-0400
TZNAME:EDT
DTSTART:20220313T070000
END:DAYLIGHT
BEGIN:STANDARD
TZOFFSETFROM:-0400
TZOFFSETTO:-0500
TZNAME:EST
DTSTART:20221106T060000
END:STANDARD
BEGIN:DAYLIGHT
TZOFFSETFROM:-0500
TZOFFSETTO:-0400
TZNAME:EDT
DTSTART:20230312T070000
END:DAYLIGHT
BEGIN:STANDARD
TZOFFSETFROM:-0400
TZOFFSETTO:-0500
TZNAME:EST
DTSTART:20231105T060000
END:STANDARD
BEGIN:DAYLIGHT
TZOFFSETFROM:-0500
TZOFFSETTO:-0400
TZNAME:EDT
DTSTART:20240310T070000
END:DAYLIGHT
BEGIN:STANDARD
TZOFFSETFROM:-0400
TZOFFSETTO:-0500
TZNAME:EST
DTSTART:20241103T060000
END:STANDARD
END:VTIMEZONE
BEGIN:VEVENT
DTSTART;TZID=America/New_York:20230308T150000
DTEND;TZID=America/New_York:20230308T160000
DTSTAMP:20260424T092944
CREATED:20230118T215048Z
LAST-MODIFIED:20230313T080421Z
UID:10000026-1678287600-1678291200@civiclearningweek.org
SUMMARY:Gaming for Democracy
DESCRIPTION:Gaming is not just fun and games\, it’s an innovative way to engage all of us – students and adults – in the real workings of our democracy that transcends the boundaries of traditional schooling. This session\, presented virtually\, will offer curated presentations by game developers on some of the key elements of their games as well as a panel discussion on what the games have in common and how gaming can deepen understanding of democracy both in school and out. \nPresenter (Biographies):\n• Arana Shapiro\, Games for Change (moderator)\n• Anahita Dalmia\, Agents of Influence/Alterea\n• Jennifer Javornik\, Filament Games\n• Justin Edwards\, Active Citizen\n• Carrie Ray Hill\, iCivics\n• Greg Trefy\, Gigantic Mechanic
URL:https://civiclearningweek.org/event/gaming-for-democracy/
LOCATION:Zoom Webinar
CATEGORIES:Webinar
ATTACH;FMTTYPE=image/jpeg:https://civiclearningweek.org/wp-content/uploads/2023/01/Gaming-for-Democracy-Banner.jpg
GEO:32.3182314;-86.902298
END:VEVENT
END:VCALENDAR