BEGIN:VCALENDAR
VERSION:2.0
PRODID:-//Civic Learning Week - ECPv6.15.11//NONSGML v1.0//EN
CALSCALE:GREGORIAN
METHOD:PUBLISH
X-ORIGINAL-URL:https://civiclearningweek.org
X-WR-CALDESC:Events for Civic Learning Week
REFRESH-INTERVAL;VALUE=DURATION:PT1H
X-Robots-Tag:noindex
X-PUBLISHED-TTL:PT1H
BEGIN:VTIMEZONE
TZID:America/New_York
BEGIN:DAYLIGHT
TZOFFSETFROM:-0500
TZOFFSETTO:-0400
TZNAME:EDT
DTSTART:20220313T070000
END:DAYLIGHT
BEGIN:STANDARD
TZOFFSETFROM:-0400
TZOFFSETTO:-0500
TZNAME:EST
DTSTART:20221106T060000
END:STANDARD
BEGIN:DAYLIGHT
TZOFFSETFROM:-0500
TZOFFSETTO:-0400
TZNAME:EDT
DTSTART:20230312T070000
END:DAYLIGHT
BEGIN:STANDARD
TZOFFSETFROM:-0400
TZOFFSETTO:-0500
TZNAME:EST
DTSTART:20231105T060000
END:STANDARD
BEGIN:DAYLIGHT
TZOFFSETFROM:-0500
TZOFFSETTO:-0400
TZNAME:EDT
DTSTART:20240310T070000
END:DAYLIGHT
BEGIN:STANDARD
TZOFFSETFROM:-0400
TZOFFSETTO:-0500
TZNAME:EST
DTSTART:20241103T060000
END:STANDARD
END:VTIMEZONE
BEGIN:VEVENT
DTSTART;TZID=America/New_York:20230308T180000
DTEND;TZID=America/New_York:20230308T190000
DTSTAMP:20260423T101515
CREATED:20230221T132143Z
LAST-MODIFIED:20230316T131140Z
UID:10000108-1678298400-1678302000@civiclearningweek.org
SUMMARY:Protecting Democracy through Civic Learning and Human Rights Education -- Educator Voices on the 75th Anniversary of the Universal Declaration of Human Rights
DESCRIPTION:Protecting Democracy through Civic Learning and Human Rights Education\n– Educator Voices on the 75th Anniversary of the Universal Declaration of\nHuman Rights (UDHR) \nA Webinar from Human Rights Educators USA (https://hreusa.org )\nWednesday\, March 8\, 3:00 pm PT/6:00 pm ET. Check your time zone.\nZoom link to be announced as the webinar agenda is finalized.\nThis webinar features educators from across the United States who are successfully integrating human rights education (HRE) into the civic learning experiences of students at diverse grade levels. They will share their experiences of using HRE concepts and instructional practices to help students connect with the skills\, values and practices that are essential for participants in an inclusive\, democratic society. Strategies for engaging youth participation and fostering youth leadership are a particular theme of the webinar.\nKey questions addressed:\n• What are democratic civic values and behaviors?\n• What is human rights education and how does it support the understanding and practice of democratic civic values and behaviors?\n• How can HRE be effectively integrated into an overall program of civic education at all grade levels?\n• What are some strategies for engaging youth participation and fostering youth leadership in building a human rights supportive civil society? \nThe presenters and facilitator will share resources for putting HRE/democratic infused civics lessons into their programs with attenders. The webinar will be presented via Zoom and will be recorded so it can be shared with those who sign up for the webinar. There will be an opportunity for attendees to submit questions to the panel. \nThis presentation is part of Human Rights Educators USA’s year of Human Rights\, honoring the 75th Anniversary of the Universal Declaration of Human Rights with the theme Protecting Democracy\, Promoting Human Rights \nWebinar Panel Participants: \nRosemary Blanchard\, founding member of Human Rights Educators USA (hreusa.org) and the Human Rights Education Community of the National Council for the Social Studies (NCSS). She is emeritus Associate Professor of Education from California State University Sacramento and Academic Research Lecturer in Peace and Conflict Studies at the University of New Mexico Rosemary is the New Mexico Regional Representative of HRE USA. \nSandy Sohcot\, founding director of The World As It Could Be Human Rights Education Program (TWAICB)\, https://www.theworldasitcouldbe.org/ )\, an arts-based program based on the principles of the Universal Declaration of Human Rights\, located in Alameda County\, CA. Sandy is an HRE USA Steering Committee member.\nAND\nNatalia Anciso\, visual artist and educator in Oakland\, CA. She currently teaches 2nd grade at Cesar Chavez Elementary school in San Francisco and has been a part of TWAICB Program since 2011.\nSandy and Natalia have teamed up to create and conduct I Am Me and I Am Part of Us\, an arts-based project introducing second grade students to core principles from the Universal Declaration of Human Rights and Social and Emotional Learning skills through arts\, performance and creativity. \nJessica Terbrieggen\, international education specialist with over fifteen years of experience working globally with diverse populations in the United States\, China\, Ecuador\, and South Korea at the intersection of human rights and the literary arts. Jessica has served as a reviewer of the implementation of the Council of Europe Charter on Educating for Democratic Citizenship and Human Rights Education in post-pandemic Europe. She is the HRE USA Regional Representative for Washington\, DC. \nJohn Terry\, Supervisor of Social Studies for the Bernards Township School District in Basking Ridge\, NJ. John is New Jersey Regional Representative of HRE USA and has participated in the NJ state chapter of HRE USA through which he has led efforts in school districts to integrate human rights into their current curricula and to design stand-alone courses in human rights..
URL:https://civiclearningweek.org/event/protecting-democracy-through-civic-learning-and-human-rights-education-educator-voices-on-the-75th-anniversary-of-the-universal-declaration-of-human-rights/
LOCATION:Human Rights Educators USA\, a Project of the Center for Transformative Action\, P.O. Box 760\, Ithaca\, New York\, 14851\, United States
CATEGORIES:Webinar
ATTACH;FMTTYPE=image/png:https://civiclearningweek.org/wp-content/uploads/2023/02/thumbnail_Protecting-Democracy-through-Civic-Learning-and-Human-Rights-Education-flyer-rev-3.png
GEO:42.440893;-76.4962498
X-APPLE-STRUCTURED-LOCATION;VALUE=URI;X-ADDRESS=Human Rights Educators USA a Project of the Center for Transformative Action P.O. Box 760 Ithaca New York 14851 United States;X-APPLE-RADIUS=500;X-TITLE=P.O. Box 760:geo:-76.4962498,42.440893
END:VEVENT
END:VCALENDAR