BEGIN:VCALENDAR
VERSION:2.0
PRODID:-//Civic Learning Week - ECPv6.15.11//NONSGML v1.0//EN
CALSCALE:GREGORIAN
METHOD:PUBLISH
X-ORIGINAL-URL:https://civiclearningweek.org
X-WR-CALDESC:Events for Civic Learning Week
REFRESH-INTERVAL;VALUE=DURATION:PT1H
X-Robots-Tag:noindex
X-PUBLISHED-TTL:PT1H
BEGIN:VTIMEZONE
TZID:America/New_York
BEGIN:DAYLIGHT
TZOFFSETFROM:-0500
TZOFFSETTO:-0400
TZNAME:EDT
DTSTART:20240310T070000
END:DAYLIGHT
BEGIN:STANDARD
TZOFFSETFROM:-0400
TZOFFSETTO:-0500
TZNAME:EST
DTSTART:20241103T060000
END:STANDARD
BEGIN:DAYLIGHT
TZOFFSETFROM:-0500
TZOFFSETTO:-0400
TZNAME:EDT
DTSTART:20250309T070000
END:DAYLIGHT
BEGIN:STANDARD
TZOFFSETFROM:-0400
TZOFFSETTO:-0500
TZNAME:EST
DTSTART:20251102T060000
END:STANDARD
BEGIN:DAYLIGHT
TZOFFSETFROM:-0500
TZOFFSETTO:-0400
TZNAME:EDT
DTSTART:20260308T070000
END:DAYLIGHT
BEGIN:STANDARD
TZOFFSETFROM:-0400
TZOFFSETTO:-0500
TZNAME:EST
DTSTART:20261101T060000
END:STANDARD
END:VTIMEZONE
BEGIN:VEVENT
DTSTART;TZID=America/New_York:20250312T170000
DTEND;TZID=America/New_York:20250312T180000
DTSTAMP:20260423T095512
CREATED:20250129T203714Z
LAST-MODIFIED:20250131T223448Z
UID:10000377-1741798800-1741802400@civiclearningweek.org
SUMMARY:Reenvisioning Civic Learning in the Face of Global Climate Change
DESCRIPTION:This webinar will be hosted in partnership with EARTHDAY.ORG and CFR Education from the Council on Foreign Relations as a part of Civic Learning Week. \nFrom extreme weather events to anxiety-inducing headlines\, students are increasingly inundated with climate disruptions in their lives. In this Civic Learning Week session\, explore how educators and students can turn climate anxiety into action by leaning into the next frontier of civic engagement: climate education. So why is understanding climate change crucial to civic education? \nIn this webinar\, presented by EARTHDAY.ORG and CFR Education\, presenters will explore why a 21st-century civic education needs to include climate education. Educators can prepare students with the knowledge\, skills\, and perspective to face climate change through responsible citizenry. As climate change continues to disrupt our world—from agriculture and energy to health and national security—teachers can keep students empowered and hopeful by activating the classroom with solutions-based approaches and action-oriented opportunities. \nIn this webinar\, participants will: \n– Understand why making climate connections in civic courses helps build hope and resilience for students.\n– Explore free\, non-partisan\, ready-to-use simulations and lesson plans on climate change and an Earth Month Calendar of activities to engage your students.\n– Discover a Climate Civics Toolkit to build activities into the classroom experience.\n– Ask questions! \nThis session is aimed at teachers of all subjects in middle school\, high school\, and higher education and can be helpful to any educator or guardian navigating how to keep students hopeful amidst the challenges of climate change.
URL:https://civiclearningweek.org/event/reenvisioning-civic-learning-in-the-face-of-global-climate-change/
LOCATION:Zoom Webinar
ATTACH;FMTTYPE=image/jpeg:https://civiclearningweek.org/wp-content/uploads/2025/01/shutterstock_Riccardo-Piccinini_363058655-scaled.jpg
GEO:32.3182314;-86.902298
END:VEVENT
END:VCALENDAR